BEGIN:VCALENDAR
VERSION:2.0
PRODID:-//SP Stadt Aarau - ECPv6.15.11//NONSGML v1.0//EN
CALSCALE:GREGORIAN
METHOD:PUBLISH
X-WR-CALNAME:SP Stadt Aarau
X-ORIGINAL-URL:https://sp-aarau.ch
X-WR-CALDESC:Veranstaltungen im SP Stadt Aarau
REFRESH-INTERVAL;VALUE=DURATION:PT1H
X-Robots-Tag:noindex
X-PUBLISHED-TTL:PT1H
BEGIN:VTIMEZONE
TZID:Europe/Zurich
BEGIN:DAYLIGHT
TZOFFSETFROM:+0100
TZOFFSETTO:+0200
TZNAME:CEST
DTSTART:20250330T010000
END:DAYLIGHT
BEGIN:STANDARD
TZOFFSETFROM:+0200
TZOFFSETTO:+0100
TZNAME:CET
DTSTART:20251026T010000
END:STANDARD
BEGIN:DAYLIGHT
TZOFFSETFROM:+0100
TZOFFSETTO:+0200
TZNAME:CEST
DTSTART:20260329T010000
END:DAYLIGHT
BEGIN:STANDARD
TZOFFSETFROM:+0200
TZOFFSETTO:+0100
TZNAME:CET
DTSTART:20261025T010000
END:STANDARD
BEGIN:DAYLIGHT
TZOFFSETFROM:+0100
TZOFFSETTO:+0200
TZNAME:CEST
DTSTART:20270328T010000
END:DAYLIGHT
BEGIN:STANDARD
TZOFFSETFROM:+0200
TZOFFSETTO:+0100
TZNAME:CET
DTSTART:20271031T010000
END:STANDARD
END:VTIMEZONE
BEGIN:VEVENT
DTSTART;TZID=Europe/Zurich:20260521T193000
DTEND;TZID=Europe/Zurich:20260521T213000
DTSTAMP:20260422T152454
CREATED:20251208T165727Z
LAST-MODIFIED:20251208T165727Z
UID:10000317-1779391800-1779399000@sp-aarau.ch
SUMMARY:Sitzung Kreisschulrat
DESCRIPTION:Die Kreisschule Aarau-Buchs ist ein Gemeindeverband der beiden Verbandsgemeinden Aarau und Buchs. Sie besteht seit dem 1. August 2018 und ist aus dem Zusammenschluss der Schule Aarau mit der Kreisschule Buchs-Rohr hervorgegangen. Seit Beginn des Schuljahres 2019/20 gehört auch der Oberstufenstandort Küttigen zur Kreisschule Aarau-Buchs.
URL:https://sp-aarau.ch/veranstaltung/sitzung-kreisschulrat/2026-05-21/
LOCATION:Aula Schulhaus Risiacher\, Rosengartenweg 4\, Buchs\, 5033
CATEGORIES:KSR,Sitzung
END:VEVENT
END:VCALENDAR