BEGIN:VCALENDAR
VERSION:2.0
PRODID:-//SP Stadt Aarau - ECPv6.15.11//NONSGML v1.0//EN
CALSCALE:GREGORIAN
METHOD:PUBLISH
X-WR-CALNAME:SP Stadt Aarau
X-ORIGINAL-URL:https://sp-aarau.ch
X-WR-CALDESC:Veranstaltungen im SP Stadt Aarau
REFRESH-INTERVAL;VALUE=DURATION:PT1H
X-Robots-Tag:noindex
X-PUBLISHED-TTL:PT1H
BEGIN:VTIMEZONE
TZID:Europe/Zurich
BEGIN:DAYLIGHT
TZOFFSETFROM:+0100
TZOFFSETTO:+0200
TZNAME:CEST
DTSTART:20250330T010000
END:DAYLIGHT
BEGIN:STANDARD
TZOFFSETFROM:+0200
TZOFFSETTO:+0100
TZNAME:CET
DTSTART:20251026T010000
END:STANDARD
BEGIN:DAYLIGHT
TZOFFSETFROM:+0100
TZOFFSETTO:+0200
TZNAME:CEST
DTSTART:20260329T010000
END:DAYLIGHT
BEGIN:STANDARD
TZOFFSETFROM:+0200
TZOFFSETTO:+0100
TZNAME:CET
DTSTART:20261025T010000
END:STANDARD
BEGIN:DAYLIGHT
TZOFFSETFROM:+0100
TZOFFSETTO:+0200
TZNAME:CEST
DTSTART:20270328T010000
END:DAYLIGHT
BEGIN:STANDARD
TZOFFSETFROM:+0200
TZOFFSETTO:+0100
TZNAME:CET
DTSTART:20271031T010000
END:STANDARD
END:VTIMEZONE
BEGIN:VEVENT
DTSTART;TZID=Europe/Zurich:20260710T170000
DTEND;TZID=Europe/Zurich:20260710T220000
DTSTAMP:20260422T164312
CREATED:20251204T135433Z
LAST-MODIFIED:20260110T183539Z
UID:88604-1783702800-1783720800@sp-aarau.ch
SUMMARY:Sommerfest
DESCRIPTION:Wie jedes Jahr laden wir zu einem gemütlichen Sommerfest ein. Wir grillen gemeinsam\, tauschen uns aus und verbringen in entspannter Atmosphäre ein paar schöne Stunden miteinander. Komm vorbei und geniesse das Beisammensein! \nWir bitten um eine kurze Anmeldung\, damit wir besser planen können. vorstand@sp-aarau.ch
URL:https://sp-aarau.ch/veranstaltung/sommerfest/
LOCATION:Volkshaus Aarau\, Bachstrasse 43\, Aarau\, 5000
CATEGORIES:Mitgliederversammlung
END:VEVENT
END:VCALENDAR