BEGIN:VCALENDAR
VERSION:2.0
PRODID:-//SP Stadt Aarau - ECPv6.15.11//NONSGML v1.0//EN
CALSCALE:GREGORIAN
METHOD:PUBLISH
X-WR-CALNAME:SP Stadt Aarau
X-ORIGINAL-URL:https://sp-aarau.ch
X-WR-CALDESC:Veranstaltungen im SP Stadt Aarau
REFRESH-INTERVAL;VALUE=DURATION:PT1H
X-Robots-Tag:noindex
X-PUBLISHED-TTL:PT1H
BEGIN:VTIMEZONE
TZID:Europe/Zurich
BEGIN:DAYLIGHT
TZOFFSETFROM:+0100
TZOFFSETTO:+0200
TZNAME:CEST
DTSTART:20250330T010000
END:DAYLIGHT
BEGIN:STANDARD
TZOFFSETFROM:+0200
TZOFFSETTO:+0100
TZNAME:CET
DTSTART:20251026T010000
END:STANDARD
BEGIN:DAYLIGHT
TZOFFSETFROM:+0100
TZOFFSETTO:+0200
TZNAME:CEST
DTSTART:20260329T010000
END:DAYLIGHT
BEGIN:STANDARD
TZOFFSETFROM:+0200
TZOFFSETTO:+0100
TZNAME:CET
DTSTART:20261025T010000
END:STANDARD
BEGIN:DAYLIGHT
TZOFFSETFROM:+0100
TZOFFSETTO:+0200
TZNAME:CEST
DTSTART:20270328T010000
END:DAYLIGHT
BEGIN:STANDARD
TZOFFSETFROM:+0200
TZOFFSETTO:+0100
TZNAME:CET
DTSTART:20271031T010000
END:STANDARD
END:VTIMEZONE
BEGIN:VEVENT
DTSTART;VALUE=DATE:20261017
DTEND;VALUE=DATE:20261019
DTSTAMP:20260422T151544
CREATED:20251208T200130Z
LAST-MODIFIED:20251208T200130Z
UID:88726-1792195200-1792367999@sp-aarau.ch
SUMMARY:SP Schweiz: Parteitag in Thun
DESCRIPTION:Die Delegierten erhalten die Einladung und Informationen zu dieser Veranstaltung. \nhttps://www.sp-ps.ch/veranstaltung/thun2026/
URL:https://sp-aarau.ch/veranstaltung/sp-schweiz-parteitag-in-thun/
LOCATION:Thun-Expo\, Kasernenstrasse 35b\, Thun\, 3600
CATEGORIES:Hauptversammlung,SP Schweiz
ORGANIZER;CN="SP Schweiz":MAILTO:info@spschweiz.ch
END:VEVENT
END:VCALENDAR