BEGIN:VCALENDAR
VERSION:2.0
PRODID:-//SP Stadt Aarau - ECPv6.15.11//NONSGML v1.0//EN
CALSCALE:GREGORIAN
METHOD:PUBLISH
X-WR-CALNAME:SP Stadt Aarau
X-ORIGINAL-URL:https://sp-aarau.ch
X-WR-CALDESC:Veranstaltungen im SP Stadt Aarau
REFRESH-INTERVAL;VALUE=DURATION:PT1H
X-Robots-Tag:noindex
X-PUBLISHED-TTL:PT1H
BEGIN:VTIMEZONE
TZID:Europe/Zurich
BEGIN:DAYLIGHT
TZOFFSETFROM:+0100
TZOFFSETTO:+0200
TZNAME:CEST
DTSTART:20250330T010000
END:DAYLIGHT
BEGIN:STANDARD
TZOFFSETFROM:+0200
TZOFFSETTO:+0100
TZNAME:CET
DTSTART:20251026T010000
END:STANDARD
BEGIN:DAYLIGHT
TZOFFSETFROM:+0100
TZOFFSETTO:+0200
TZNAME:CEST
DTSTART:20260329T010000
END:DAYLIGHT
BEGIN:STANDARD
TZOFFSETFROM:+0200
TZOFFSETTO:+0100
TZNAME:CET
DTSTART:20261025T010000
END:STANDARD
BEGIN:DAYLIGHT
TZOFFSETFROM:+0100
TZOFFSETTO:+0200
TZNAME:CEST
DTSTART:20270328T010000
END:DAYLIGHT
BEGIN:STANDARD
TZOFFSETFROM:+0200
TZOFFSETTO:+0100
TZNAME:CET
DTSTART:20271031T010000
END:STANDARD
END:VTIMEZONE
BEGIN:VEVENT
DTSTART;TZID=Europe/Zurich:20261006T190000
DTEND;TZID=Europe/Zurich:20261006T213000
DTSTAMP:20260422T164506
CREATED:20251208T203545Z
LAST-MODIFIED:20251208T204334Z
UID:10000362-1791313200-1791322200@sp-aarau.ch
SUMMARY:Sitzung Vorstand
DESCRIPTION:Der Vorstand der SP Stadt Aarau trifft sich monatlich im Volkshaus Aarau. Die Sitzungen sind grundsätzlich nicht Öffentlich. Wer an einer Teilnahme interessiert ist\, darf sich jederzeit beim Vorstand melden.
URL:https://sp-aarau.ch/veranstaltung/vorstandssitzung-2/2026-10-06/
LOCATION:Volkshaus Aarau\, Bachstrasse 43\, Aarau\, 5000
CATEGORIES:Sitzung
END:VEVENT
END:VCALENDAR