
BEGIN:VCALENDAR
VERSION:2.0
PRODID:-//SP Stadt Aarau - ECPv6.15.11//NONSGML v1.0//EN
CALSCALE:GREGORIAN
METHOD:PUBLISH
X-WR-CALNAME:SP Stadt Aarau
X-ORIGINAL-URL:https://sp-aarau.ch
X-WR-CALDESC:Veranstaltungen im SP Stadt Aarau
REFRESH-INTERVAL;VALUE=DURATION:PT1H
X-Robots-Tag:noindex
X-PUBLISHED-TTL:PT1H
BEGIN:VTIMEZONE
TZID:Europe/Zurich
BEGIN:DAYLIGHT
TZOFFSETFROM:+0100
TZOFFSETTO:+0200
TZNAME:CEST
DTSTART:20250330T010000
END:DAYLIGHT
BEGIN:STANDARD
TZOFFSETFROM:+0200
TZOFFSETTO:+0100
TZNAME:CET
DTSTART:20251026T010000
END:STANDARD
BEGIN:DAYLIGHT
TZOFFSETFROM:+0100
TZOFFSETTO:+0200
TZNAME:CEST
DTSTART:20260329T010000
END:DAYLIGHT
BEGIN:STANDARD
TZOFFSETFROM:+0200
TZOFFSETTO:+0100
TZNAME:CET
DTSTART:20261025T010000
END:STANDARD
BEGIN:DAYLIGHT
TZOFFSETFROM:+0100
TZOFFSETTO:+0200
TZNAME:CEST
DTSTART:20270328T010000
END:DAYLIGHT
BEGIN:STANDARD
TZOFFSETFROM:+0200
TZOFFSETTO:+0100
TZNAME:CET
DTSTART:20271031T010000
END:STANDARD
END:VTIMEZONE
BEGIN:VEVENT
DTSTART;TZID=Europe/Zurich:20260511T190000
DTEND;TZID=Europe/Zurich:20260511T210000
DTSTAMP:20260422T163653
CREATED:20250716T105202Z
LAST-MODIFIED:20251208T203954Z
UID:10000308-1778526000-1778533200@sp-aarau.ch
SUMMARY:Sitzung Einwohnerrat
DESCRIPTION:Der Einwohnerrat ist das Parlament der Einwohnergemeinde Aarau. Er umfasst 50 Mitglieder und wird alle vier Jahre gewählt.
URL:https://sp-aarau.ch/veranstaltung/einwohnerratssitzung/2026-05-11/
LOCATION:Grossratsgebäude\, Obere Vorstadt 10\, Aarau\, 5000
CATEGORIES:Fraktion-ER,Sitzung
END:VEVENT
BEGIN:VEVENT
DTSTART;TZID=Europe/Zurich:20260622T190000
DTEND;TZID=Europe/Zurich:20260622T210000
DTSTAMP:20260422T163653
CREATED:20250716T105202Z
LAST-MODIFIED:20251208T203954Z
UID:10000309-1782154800-1782162000@sp-aarau.ch
SUMMARY:Sitzung Einwohnerrat
DESCRIPTION:Der Einwohnerrat ist das Parlament der Einwohnergemeinde Aarau. Er umfasst 50 Mitglieder und wird alle vier Jahre gewählt.
URL:https://sp-aarau.ch/veranstaltung/einwohnerratssitzung/2026-06-22/
LOCATION:Grossratsgebäude\, Obere Vorstadt 10\, Aarau\, 5000
CATEGORIES:Fraktion-ER,Sitzung
END:VEVENT
BEGIN:VEVENT
DTSTART;TZID=Europe/Zurich:20260824T190000
DTEND;TZID=Europe/Zurich:20260824T210000
DTSTAMP:20260422T163653
CREATED:20250716T105202Z
LAST-MODIFIED:20251208T203954Z
UID:10000310-1787598000-1787605200@sp-aarau.ch
SUMMARY:Sitzung Einwohnerrat
DESCRIPTION:Der Einwohnerrat ist das Parlament der Einwohnergemeinde Aarau. Er umfasst 50 Mitglieder und wird alle vier Jahre gewählt.
URL:https://sp-aarau.ch/veranstaltung/einwohnerratssitzung/2026-08-24/
LOCATION:Grossratsgebäude\, Obere Vorstadt 10\, Aarau\, 5000
CATEGORIES:Fraktion-ER,Sitzung
END:VEVENT
BEGIN:VEVENT
DTSTART;TZID=Europe/Zurich:20260921T190000
DTEND;TZID=Europe/Zurich:20260921T210000
DTSTAMP:20260422T163653
CREATED:20250716T105202Z
LAST-MODIFIED:20251208T203954Z
UID:10000311-1790017200-1790024400@sp-aarau.ch
SUMMARY:Sitzung Einwohnerrat
DESCRIPTION:Der Einwohnerrat ist das Parlament der Einwohnergemeinde Aarau. Er umfasst 50 Mitglieder und wird alle vier Jahre gewählt.
URL:https://sp-aarau.ch/veranstaltung/einwohnerratssitzung/2026-09-21/
LOCATION:Grossratsgebäude\, Obere Vorstadt 10\, Aarau\, 5000
CATEGORIES:Fraktion-ER,Sitzung
END:VEVENT
BEGIN:VEVENT
DTSTART;TZID=Europe/Zurich:20261026T190000
DTEND;TZID=Europe/Zurich:20261026T210000
DTSTAMP:20260422T163653
CREATED:20250716T105202Z
LAST-MODIFIED:20251208T203954Z
UID:10000312-1793041200-1793048400@sp-aarau.ch
SUMMARY:Sitzung Einwohnerrat
DESCRIPTION:Der Einwohnerrat ist das Parlament der Einwohnergemeinde Aarau. Er umfasst 50 Mitglieder und wird alle vier Jahre gewählt.
URL:https://sp-aarau.ch/veranstaltung/einwohnerratssitzung/2026-10-26/
LOCATION:Grossratsgebäude\, Obere Vorstadt 10\, Aarau\, 5000
CATEGORIES:Fraktion-ER,Sitzung
END:VEVENT
BEGIN:VEVENT
DTSTART;TZID=Europe/Zurich:20261123T190000
DTEND;TZID=Europe/Zurich:20261123T210000
DTSTAMP:20260422T163653
CREATED:20250716T105202Z
LAST-MODIFIED:20251208T203954Z
UID:10000313-1795460400-1795467600@sp-aarau.ch
SUMMARY:Sitzung Einwohnerrat
DESCRIPTION:Der Einwohnerrat ist das Parlament der Einwohnergemeinde Aarau. Er umfasst 50 Mitglieder und wird alle vier Jahre gewählt.
URL:https://sp-aarau.ch/veranstaltung/einwohnerratssitzung/2026-11-23/
LOCATION:Grossratsgebäude\, Obere Vorstadt 10\, Aarau\, 5000
CATEGORIES:Fraktion-ER,Sitzung
END:VEVENT
BEGIN:VEVENT
DTSTART;TZID=Europe/Zurich:20261214T190000
DTEND;TZID=Europe/Zurich:20261214T210000
DTSTAMP:20260422T163653
CREATED:20250716T105202Z
LAST-MODIFIED:20251208T203954Z
UID:10000314-1797274800-1797282000@sp-aarau.ch
SUMMARY:Sitzung Einwohnerrat
DESCRIPTION:Der Einwohnerrat ist das Parlament der Einwohnergemeinde Aarau. Er umfasst 50 Mitglieder und wird alle vier Jahre gewählt.
URL:https://sp-aarau.ch/veranstaltung/einwohnerratssitzung/2026-12-14/
LOCATION:Grossratsgebäude\, Obere Vorstadt 10\, Aarau\, 5000
CATEGORIES:Fraktion-ER,Sitzung
END:VEVENT
END:VCALENDAR