
BEGIN:VCALENDAR
VERSION:2.0
PRODID:-//SP Stadt Aarau - ECPv6.15.11//NONSGML v1.0//EN
CALSCALE:GREGORIAN
METHOD:PUBLISH
X-WR-CALNAME:SP Stadt Aarau
X-ORIGINAL-URL:https://sp-aarau.ch
X-WR-CALDESC:Veranstaltungen im SP Stadt Aarau
REFRESH-INTERVAL;VALUE=DURATION:PT1H
X-Robots-Tag:noindex
X-PUBLISHED-TTL:PT1H
BEGIN:VTIMEZONE
TZID:Europe/Zurich
BEGIN:DAYLIGHT
TZOFFSETFROM:+0100
TZOFFSETTO:+0200
TZNAME:CEST
DTSTART:20250330T010000
END:DAYLIGHT
BEGIN:STANDARD
TZOFFSETFROM:+0200
TZOFFSETTO:+0100
TZNAME:CET
DTSTART:20251026T010000
END:STANDARD
BEGIN:DAYLIGHT
TZOFFSETFROM:+0100
TZOFFSETTO:+0200
TZNAME:CEST
DTSTART:20260329T010000
END:DAYLIGHT
BEGIN:STANDARD
TZOFFSETFROM:+0200
TZOFFSETTO:+0100
TZNAME:CET
DTSTART:20261025T010000
END:STANDARD
BEGIN:DAYLIGHT
TZOFFSETFROM:+0100
TZOFFSETTO:+0200
TZNAME:CEST
DTSTART:20270328T010000
END:DAYLIGHT
BEGIN:STANDARD
TZOFFSETFROM:+0200
TZOFFSETTO:+0100
TZNAME:CET
DTSTART:20271031T010000
END:STANDARD
END:VTIMEZONE
BEGIN:VEVENT
DTSTART;VALUE=DATE:20260425
DTEND;VALUE=DATE:20260426
DTSTAMP:20260422T133439
CREATED:20251208T193440Z
LAST-MODIFIED:20251208T193440Z
UID:10000332-1777075200-1777161599@sp-aarau.ch
SUMMARY:SP Aargau: Ordentlicher Parteitag in Zofingen
DESCRIPTION:Genauere Infos zu dieser Versammlung folgen noch.
URL:https://sp-aarau.ch/veranstaltung/sp-aargau-ordentlicher-parteitag-in-zofingen/
CATEGORIES:Hauptversammlung,Kanton Aargau
ORGANIZER;CN="SP Kanton Aargau":MAILTO:sekretariat@sp-aargau.ch
END:VEVENT
BEGIN:VEVENT
DTSTART;VALUE=DATE:20260505
DTEND;VALUE=DATE:20260506
DTSTAMP:20260422T133439
CREATED:20251208T193600Z
LAST-MODIFIED:20251208T193600Z
UID:10000333-1777939200-1778025599@sp-aarau.ch
SUMMARY:SP Aargau: Fraktionsausflug
DESCRIPTION:Genauere Infos zu dieser Versammlung folgen noch.
URL:https://sp-aarau.ch/veranstaltung/sp-aargau-fraktionsausflug/
CATEGORIES:Kanton Aargau
ORGANIZER;CN="SP Kanton Aargau":MAILTO:sekretariat@sp-aargau.ch
END:VEVENT
BEGIN:VEVENT
DTSTART;VALUE=DATE:20260512
DTEND;VALUE=DATE:20260513
DTSTAMP:20260422T133439
CREATED:20251208T193752Z
LAST-MODIFIED:20251208T200226Z
UID:10000334-1778544000-1778630399@sp-aarau.ch
SUMMARY:SP Aargau: Präsidienkonferenz
DESCRIPTION:Genauere Infos zu dieser Versammlung folgen noch.
URL:https://sp-aarau.ch/veranstaltung/sp-aargau-praesidienkonferenz/2026-05-12/
CATEGORIES:Kanton Aargau,Sitzung
ORGANIZER;CN="SP Kanton Aargau":MAILTO:sekretariat@sp-aargau.ch
END:VEVENT
BEGIN:VEVENT
DTSTART;VALUE=DATE:20260604
DTEND;VALUE=DATE:20260605
DTSTAMP:20260422T133439
CREATED:20251208T193935Z
LAST-MODIFIED:20251208T202649Z
UID:10000335-1780531200-1780617599@sp-aarau.ch
SUMMARY:SP Aargau: Bildungsveranstaltung: Feministische Bildung
DESCRIPTION:Genauere Infos zu dieser Versammlung folgen noch.
URL:https://sp-aarau.ch/veranstaltung/sp-aargau-bildungsveranstaltung-feministische-bildung/
CATEGORIES:Bildungsveranstaltung,Kanton Aargau
ORGANIZER;CN="SP Kanton Aargau":MAILTO:sekretariat@sp-aargau.ch
END:VEVENT
BEGIN:VEVENT
DTSTART;VALUE=DATE:20260815
DTEND;VALUE=DATE:20260816
DTSTAMP:20260422T133439
CREATED:20251208T195138Z
LAST-MODIFIED:20251208T195138Z
UID:10000341-1786752000-1786838399@sp-aarau.ch
SUMMARY:SP Aargau: Ausserordentlicher Parteitag
DESCRIPTION:Genauere Infos zu dieser Versammlung folgen noch.
URL:https://sp-aarau.ch/veranstaltung/sp-aargau-ausserordentlicher-parteitag-2/
CATEGORIES:Hauptversammlung,Kanton Aargau
ORGANIZER;CN="SP Kanton Aargau":MAILTO:sekretariat@sp-aargau.ch
END:VEVENT
BEGIN:VEVENT
DTSTART;VALUE=DATE:20260909
DTEND;VALUE=DATE:20260910
DTSTAMP:20260422T133439
CREATED:20251208T192621Z
LAST-MODIFIED:20251208T202014Z
UID:10000342-1788940800-1788973200@sp-aarau.ch
SUMMARY:SP Aargau: FA-Präsidiensitzung
DESCRIPTION:Die Präsidien erhalten die Einladung und Informationen zu dieser Veranstaltung.
URL:https://sp-aarau.ch/veranstaltung/sp-aargau-fa-praesidiensitzung/2026-09-09/
CATEGORIES:Kanton Aargau,Sitzung
ORGANIZER;CN="SP Kanton Aargau":MAILTO:sekretariat@sp-aargau.ch
END:VEVENT
BEGIN:VEVENT
DTSTART;VALUE=DATE:20260915
DTEND;VALUE=DATE:20260916
DTSTAMP:20260422T133439
CREATED:20251208T195657Z
LAST-MODIFIED:20251208T201315Z
UID:10000343-1789430400-1789516799@sp-aarau.ch
SUMMARY:SP Aargau: Bildungsveranstaltung
DESCRIPTION:Genauere Infos zu dieser Versammlung folgen noch.
URL:https://sp-aarau.ch/veranstaltung/sp-aargau-bildungsveranstaltung/
CATEGORIES:Bildungsveranstaltung,Kanton Aargau
ORGANIZER;CN="SP Kanton Aargau":MAILTO:sekretariat@sp-aargau.ch
END:VEVENT
BEGIN:VEVENT
DTSTART;VALUE=DATE:20261020
DTEND;VALUE=DATE:20261021
DTSTAMP:20260422T133439
CREATED:20251208T193752Z
LAST-MODIFIED:20251208T200226Z
UID:10000345-1792483200-1792515600@sp-aarau.ch
SUMMARY:SP Aargau: Präsidienkonferenz
DESCRIPTION:Genauere Infos zu dieser Versammlung folgen noch.
URL:https://sp-aarau.ch/veranstaltung/sp-aargau-praesidienkonferenz/2026-10-20/
CATEGORIES:Kanton Aargau,Sitzung
ORGANIZER;CN="SP Kanton Aargau":MAILTO:sekretariat@sp-aargau.ch
END:VEVENT
BEGIN:VEVENT
DTSTART;VALUE=DATE:20261028
DTEND;VALUE=DATE:20261029
DTSTAMP:20260422T133439
CREATED:20251208T200910Z
LAST-MODIFIED:20251208T202232Z
UID:10000350-1793145600-1793231999@sp-aarau.ch
SUMMARY:SP Aargau: Neumitgliederanlass
DESCRIPTION:Genauere Infos zu dieser Versammlung folgen noch.
URL:https://sp-aarau.ch/veranstaltung/sp-aargau-neumitgliederanlass-2/
CATEGORIES:Kanton Aargau,Neumitglieder
ORGANIZER;CN="SP Kanton Aargau":MAILTO:sekretariat@sp-aargau.ch
END:VEVENT
BEGIN:VEVENT
DTSTART;VALUE=DATE:20261107
DTEND;VALUE=DATE:20261108
DTSTAMP:20260422T133439
CREATED:20251208T201054Z
LAST-MODIFIED:20251208T201054Z
UID:10000351-1794009600-1794095999@sp-aarau.ch
SUMMARY:SP Aargau: Ausserordentlicher Parteitag in Spreitenbach
DESCRIPTION:Genauere Infos zu dieser Versammlung folgen noch.
URL:https://sp-aarau.ch/veranstaltung/sp-aargau-ausserordentlicher-parteitag-in-spreitenbach/
CATEGORIES:Hauptversammlung,Kanton Aargau
ORGANIZER;CN="SP Kanton Aargau":MAILTO:sekretariat@sp-aargau.ch
END:VEVENT
END:VCALENDAR